BEGIN:VCALENDAR
VERSION:2.0
PRODID:City of Hillsboro, OR Calendar Creator
METHOD:PUBLISH
BEGIN:VEVENT
DTSTAMP:20260417T165255
DTSTART:20260422T160000
DTEND:20260422T200000
SUMMARY:Lotería de Paisanos
DESCRIPTION:<p>Interactive Lotería — Like Bingo, But Better!</p><p>Grab your Lotería card at the market, then explore participating business stands throughout the event — each visit lets you mark off a new image on your card. Fill your card to win!</p><ul>    <li><strong>Free raffle entry</strong> to win local gift cards</li>    <li>Discover and <strong>support Hillsboro's local businesses</strong></li>    <li><strong>Fun </strong>for the whole family</li></ul><p><strong>Location</strong>: 966 SE Oak St, Hillsboro, OR 97123</p><p>Hosted by Paisanos Plaza, Hillsboro Downtown Partnership &amp; Unite Oregon</p><p></p>
X-ALT-DESC;FMTTYPE=text/html:<p>Interactive Lotería — Like Bingo, But Better!</p><p>Grab your Lotería card at the market, then explore participating business stands throughout the event — each visit lets you mark off a new image on your card. Fill your card to win!</p><ul>    <li><strong>Free raffle entry</strong> to win local gift cards</li>    <li>Discover and <strong>support Hillsboro's local businesses</strong></li>    <li><strong>Fun </strong>for the whole family</li></ul><p><strong>Location</strong>: 966 SE Oak St, Hillsboro, OR 97123</p><p>Hosted by Paisanos Plaza, Hillsboro Downtown Partnership &amp; Unite Oregon</p><p></p>
LOCATION:
CLASS:PUBLIC
END:VEVENT
END:VCALENDAR
