BEGIN:VCALENDAR
VERSION:2.0
PRODID:City of Hillsboro, OR Calendar Creator
METHOD:PUBLISH
BEGIN:VEVENT
DTSTAMP:20260413T164459
DTSTART:20260825T140000
DTEND:20260825T160000
SUMMARY:Tech Help
DESCRIPTION:<p>We offer personalized, welcoming support to adults desiring to learn how to use their devices and digital tools for everyday tasks, communication, and safe participation in online life.</p><p>*You can now book a 30-minute tech support appointment with one of our Digital Navigators. Check our website or call for appointment availability, visit <a href="https://hillsboro.libcal.com/appointments/tech-help" target="_blank" rel="noopener" title="Link to LibCal reservations">https://hillsboro.libcal.com/appointments/tech-help</a> or call the library at 503-615-6500.</p>
X-ALT-DESC;FMTTYPE=text/html:<p>We offer personalized, welcoming support to adults desiring to learn how to use their devices and digital tools for everyday tasks, communication, and safe participation in online life.</p><p>*You can now book a 30-minute tech support appointment with one of our Digital Navigators. Check our website or call for appointment availability, visit <a href="https://hillsboro.libcal.com/appointments/tech-help" target="_blank" rel="noopener" title="Link to LibCal reservations">https://hillsboro.libcal.com/appointments/tech-help</a> or call the library at 503-615-6500.</p>
LOCATION:Shute Park Library\, 775 SE Tenth Ave Hillsboro\, Oregon 97123
CLASS:PUBLIC
END:VEVENT
END:VCALENDAR
