BEGIN:VCALENDAR
VERSION:2.0
PRODID:City of Hillsboro, OR Calendar Creator
METHOD:PUBLISH
BEGIN:VEVENT
DTSTAMP:20260409T085338
DTSTART:20260502T110000
DTEND:20260502T150000
SUMMARY:Jackson Bottom in Bloom
DESCRIPTION:<p>This free event will feature crafts, games, guided nature walks, scavenger hunts, a pollination station, nature story times with Hillsboro Library, &amp; more!<br><br>PLUS: Meet Manuel Regalado, the local artist behind Guendanabani, a sculptural carving created on a 15-foot ash tree along the river trail. Inspired by the wetlands, the carving features animals found throughout Jackson Bottom. The title Guendanabani comes from Manuel’s first language, Zapotec, and broadly translates to “the full force of life’s energy.”<br><br>Manuel will be at the event for a meet and greet from noon to 2 pm.</p>
X-ALT-DESC;FMTTYPE=text/html:<p>This free event will feature crafts, games, guided nature walks, scavenger hunts, a pollination station, nature story times with Hillsboro Library, &amp; more!<br><br>PLUS: Meet Manuel Regalado, the local artist behind Guendanabani, a sculptural carving created on a 15-foot ash tree along the river trail. Inspired by the wetlands, the carving features animals found throughout Jackson Bottom. The title Guendanabani comes from Manuel’s first language, Zapotec, and broadly translates to “the full force of life’s energy.”<br><br>Manuel will be at the event for a meet and greet from noon to 2 pm.</p>
LOCATION:Jackson Bottom Wetlands Preserve\, 2600 SW Hillsboro Hwy. Hillsboro\, Oregon 97123
CLASS:PUBLIC
END:VEVENT
END:VCALENDAR
