BEGIN:VCALENDAR
VERSION:2.0
PRODID:City of Hillsboro, OR Calendar Creator
METHOD:PUBLISH
BEGIN:VEVENT
DTSTAMP:20260413T152744
DTSTART:20260425T100000
DTEND:20260425T110000
SUMMARY:Nature’s Story & Song | Julian Saporiti at Jackson Bottom Wetlands Preserve
DESCRIPTION:<p>Celebrate Earth Day with a mini concert at the Wetlands!</p><p>Enjoy the latest compositions by Julian Saporiti focused on the natural world, including a piece inspired by Jackson Bottom Wetlands Preserve. Saporiti weaves together folk music and instrumentals, and he’ll share more about his process and work.</p><p>Whether you’re a lover of music or a passionate environmental advocate, don’t miss this opportunity to experience the power of song in nature.</p><p>Free and open to all ages. No registration required.&nbsp;</p>
X-ALT-DESC;FMTTYPE=text/html:<p>Celebrate Earth Day with a mini concert at the Wetlands!</p><p>Enjoy the latest compositions by Julian Saporiti focused on the natural world, including a piece inspired by Jackson Bottom Wetlands Preserve. Saporiti weaves together folk music and instrumentals, and he’ll share more about his process and work.</p><p>Whether you’re a lover of music or a passionate environmental advocate, don’t miss this opportunity to experience the power of song in nature.</p><p>Free and open to all ages. No registration required.&nbsp;</p>
LOCATION:Jackson Bottom Wetlands Preserve\, 2600 SW Hillsboro Hwy. Hillsboro\, Oregon 97123
CLASS:PUBLIC
END:VEVENT
END:VCALENDAR
